BEGIN:VCALENDAR
VERSION:2.0
X-WR-CALNAME:EventsCalendar
BEGIN:VEVENT
CATEGORIES:Categories,Info Sessions and Open Houses,Categories,School of Tourism Management,Venues,Capilano University - Off Campus
DESCRIPTION:Launch your Tourism Career today! Join BC's $22.1B sector, contributing to Canada's $130B industry supporting 1 in 10 jobs! Find out more about the , and the . Register Now9549155
DTSTAMP:20260420T033541
DTSTART:20260506T173000
DTEND:20260506T183000
LOCATION:Capilano University - Off Campus
SUMMARY;LANGUAGE=en-us:Tourism Programs Info Session - Online
UID:c29f3a751e316acf80478140ff4a3c64@www.capilanou.ca
END:VEVENT
END:VCALENDAR
