BEGIN:VCALENDAR
VERSION:2.0
X-WR-CALNAME:EventsCalendar
BEGIN:VEVENT
CATEGORIES:Categories,BlueShore Events,Categories,Rental Events,Venues,The BlueShore at CapU
DESCRIPTION:All aboard for an evening of musical adventure! Join the Black Bear Band for a travel-themed Spring Concert featuring tunes inspired by planes, trains, and automobiles&mdash;your ticket to a journey around the world.9549143
DTSTAMP:20260419T210521
DTSTART:20260511T193000
DTEND:20260511T210000
LOCATION:The BlueShore at CapU
SUMMARY;LANGUAGE=en-us:Black Bear Band Spring Concert
UID:0799a60a22371ef5dfcd877f3a981bd4@www.capilanou.ca
END:VEVENT
END:VCALENDAR
