BEGIN:VCALENDAR
VERSION:2.0
X-WR-CALNAME:EventsCalendar
BEGIN:VEVENT
CATEGORIES:Categories,Global & Community Studies,Categories,Info Sessions and Open Houses,Categories,University Events,Venues,Capilano University - Virtual
DESCRIPTION:Launch your Tourism Career today! Join BC's $22.1B sector, contributing to Canada's $130B industry supporting 1 in 10 jobs! Learn about our Bachelor of Tourism Management Degree, Tourism Management Co-operative Education Diploma and Global Leadership in Sustainable Tourism Post-Baccalaureate Diploma. REGISTER NOW9542065
DTSTAMP:20260420T033541
DTSTART:20260506T173000
DTEND:20260506T183000
LOCATION:Capilano University - Virtual
SUMMARY;LANGUAGE=en-us:Tourism Programs Online Info Session - May 6
UID:6178701e125c076ce063147e2ecdafb1@www.capilanou.ca
END:VEVENT
END:VCALENDAR
