BEGIN:VCALENDAR
VERSION:2.0
X-WR-CALNAME:EventsCalendar
BEGIN:VEVENT
CATEGORIES:Categories,Info Sessions and Open Houses,Categories,School of Education & Childhood Studies,Venues,Capilano University - Virtual
DESCRIPTION:JOIN VIA ZOOM9539333
DTSTAMP:20260420T033541
DTSTART:20260429T180000
DTEND:20260429T193000
LOCATION:Capilano University - Virtual
SUMMARY;LANGUAGE=en-us:Education Assistant Program Virtual Information Session
UID:7d0cd2d1b9db24c2fb00727b2e8c3f9f@www.capilanou.ca
END:VEVENT
END:VCALENDAR
