BEGIN:VCALENDAR
VERSION:2.0
X-WR-CALNAME:EventsCalendar
BEGIN:VEVENT
CATEGORIES:Categories,Alumni,Venues,Capilano University - Off Campus
DESCRIPTION:Join us at Wildeye Brewing (1385 Main St., North Vancouver) for a special social for grads hosted by the CapU Alumni Association (CUAA) to welcome you to the alumni community! Get ready to dive into a celebratory in-person experience with From Caps to Connections at Wildeye! It's all about meeting cool people, sharing stories and celebrating with friends. See you there!  Free drink Free food Live DJ Door prizes  Hosted by the CapU Alumni Association. Register now9478746
DTSTAMP:20260420T071356
DTSTART:20260423T180000
DTEND:20260423T235900
LOCATION:Capilano University - Off Campus
SUMMARY;LANGUAGE=en-us:From Caps to Connections at Wildeye Brewing
UID:0928929e545a2c8cabcd498c937751c1@www.capilanou.ca
END:VEVENT
END:VCALENDAR
