BEGIN:VCALENDAR
VERSION:2.0
X-WR-CALNAME:EventsCalendar
BEGIN:VEVENT
CATEGORIES:Categories,BlueShore Events,Categories,CapU Classical & Choral Series,Venues,The BlueShore at CapU
DESCRIPTION:CapU Choirs' In the Same Room concert is an immersive choral experience where voices inspired by Baroque, Indigenous, Persian, Indian, popular and jazz music meet in conversation. Conductor and Artistic Director: Dr. Hussein Janmohamed, faculty member in the Capilano University Music Diploma Program. Featured Guest Artists: Santoor virtuoso Saina Khaledi; tabla virtuoso Sunny Matharu; jazz/Hindustani singer Shruti Ramani (leader of Raagaverse); and pianist Edmund Lau Sing (1st Year student winner of the Music Diploma performance competition) bring their vibrant musical traditions alongside the CapU Choral Ensemble and Campus Choir to reimagine the choral stage. Inspired by the words of St&oacute;:lō Elder Lee Maracle &ndash; that we must be in the same room to create a shared future &ndash; this concert invites audiences into a musical space where different voices meet and transform together. In a world where differences often divide, In the Same Room offers a powerful reminder of music&rsquo;s ability to unite.9411085
DTSTAMP:20260419T131444
DTSTART:20260411T193000
DTEND:20260411T213000
LOCATION:The BlueShore at CapU
SUMMARY;LANGUAGE=en-us:CapU Choirs: In the Same Room
UID:69c9dfcc64077a6f425dbe0b9d9cd7d4@www.capilanou.ca
END:VEVENT
END:VCALENDAR
