BEGIN:VCALENDAR
VERSION:2.0
X-WR-CALNAME:EventsCalendar
BEGIN:VEVENT
CATEGORIES:Categories,Academic Schedule & Important Dates,Venues,Capilano University - All Campuses
DESCRIPTION:Students can add, drop and waitlist for courses.9033747
DTSTAMP:20260419T193144
DTSTART:20260702T080000
DTEND:20260702T160000
LOCATION:Capilano University - All Campuses
SUMMARY;LANGUAGE=en-us:Registration System Re-opens
UID:a9a66e336dfc9c330efa4388ec362e26@www.capilanou.ca
END:VEVENT
END:VCALENDAR
