BEGIN:VCALENDAR
VERSION:2.0
X-WR-CALNAME:EventsCalendar
BEGIN:VEVENT
CATEGORIES:Categories,Academic Schedule & Important Dates,Venues,Capilano University - All Campuses
DESCRIPTION:Note: During this period, withdrawals will be noted on the permanent student record as a &ldquo;W&rdquo;.9033739
DTSTAMP:20260419T193144
DTSTART:20260523T080000
DTEND:20260717T170000
LOCATION:Capilano University - All Campuses
SUMMARY;LANGUAGE=en-us:Summer 2026 &ndash; Full Term Withdrawal Period
UID:f727d8dd1f00b0b5fcf5eb47fe671218@www.capilanou.ca
END:VEVENT
END:VCALENDAR
