BEGIN:VCALENDAR
VERSION:2.0
X-WR-CALNAME:EventsCalendar
BEGIN:VEVENT
CATEGORIES:Categories,Academic Schedule & Important Dates,Venues,Capilano University - All Campuses
DESCRIPTION:Registration System Closed for Spring 2026 End-of-Term processing and Summer 2026 deregistration due to non-payment of fees. Students will not be able to add, drop or waitlist for courses.9024897
DTSTAMP:20260419T193144
DTSTART:20260428T080000
DTEND:20260429T160000
LOCATION:Capilano University - All Campuses
SUMMARY;LANGUAGE=en-us:Spring 2026 Grades and End-of-Term Processing
UID:7696cd2d856872edafdd664153b91c31@www.capilanou.ca
END:VEVENT
END:VCALENDAR
