BEGIN:VCALENDAR
VERSION:2.0
X-WR-CALNAME:EventsCalendar
BEGIN:VEVENT
CATEGORIES:Categories,Academic Schedule & Important Dates,Venues,Capilano University - All Campuses
DESCRIPTION:Registration System Closed. Students will not be able to add, drop or waitlist for courses.9024896
DTSTAMP:20260419T193144
DTSTART:20260427T160000
DTEND:20260427T160000
LOCATION:Capilano University - All Campuses
SUMMARY;LANGUAGE=en-us:Fee Payment Deadline &ndash; Summer 2026
UID:a4cc0815f2dee5aa5ac392e1c242e878@www.capilanou.ca
END:VEVENT
END:VCALENDAR
