BEGIN:VCALENDAR
VERSION:2.0
X-WR-CALNAME:EventsCalendar
BEGIN:VEVENT
CATEGORIES:Categories,Business & Professional Studies,Categories,Info Sessions and Open Houses,Venues,Capilano University - Virtual
DESCRIPTION:Interested in a career in the legal field? Get details on admission requirements and course offerings, and get your questions answered. REGISTER ON ZOOM8991728
DTSTAMP:20260420T033859
DTSTART:20260616T190000
DTEND:20260616T200000
LOCATION:Capilano University - Virtual
SUMMARY;LANGUAGE=en-us:Legal Administrative Assistant Info Session &ndash; June 16
UID:13bc1fb68efd60d8a9dc4f130e7b4968@www.capilanou.ca
END:VEVENT
END:VCALENDAR
