BEGIN:VCALENDAR
VERSION:2.0
X-WR-CALNAME:EventsCalendar
BEGIN:VEVENT
CATEGORIES:Categories,BlueShore Events,Categories,CapU Global Roots Series,Categories,CapU North Shore Jazz,Venues,Lynn Valley Village
DESCRIPTION:This high-energy retro soul, blues, and roots quartet&rsquo;s influences include Marvin Gaye, James Brown and the Meters on original tunes such as &ldquo;I Was Wrong&rdquo; and others, which have racked up 1.6 million Spotify listens. The groove-driven Vancouver&nbsp;band's members &ndash; bassist/vocalist Ian Beaty, guitarist Colin Brumelle, keyboardist Mike Kenney and drummer Tim Watson &ndash; have recorded and toured with such acts as Dawn Pemberton, Harpdog Brown, Daniel Wesley and Ndidi O.8631404
DTSTAMP:20260420T055634
DTSTART:20250622T130000
DTEND:20250622T150000
LOCATION:Lynn Valley Village
SUMMARY;LANGUAGE=en-us:Honeybear, The Band
UID:9f794f0502de9c3526de2a7c250f7612@www.capilanou.ca
END:VEVENT
END:VCALENDAR
